BEGIN:VCALENDAR
VERSION:2.0
PRODID:-//Tabletop-Potsdam - ECPv6.15.14//NONSGML v1.0//EN
CALSCALE:GREGORIAN
METHOD:PUBLISH
X-ORIGINAL-URL:https://tabletop-potsdam.de
X-WR-CALDESC:Veranstaltungen für Tabletop-Potsdam
REFRESH-INTERVAL;VALUE=DURATION:PT1H
X-Robots-Tag:noindex
X-PUBLISHED-TTL:PT1H
BEGIN:VTIMEZONE
TZID:Europe/Berlin
BEGIN:DAYLIGHT
TZOFFSETFROM:+0100
TZOFFSETTO:+0200
TZNAME:CEST
DTSTART:20250330T010000
END:DAYLIGHT
BEGIN:STANDARD
TZOFFSETFROM:+0200
TZOFFSETTO:+0100
TZNAME:CET
DTSTART:20251026T010000
END:STANDARD
BEGIN:DAYLIGHT
TZOFFSETFROM:+0100
TZOFFSETTO:+0200
TZNAME:CEST
DTSTART:20260329T010000
END:DAYLIGHT
BEGIN:STANDARD
TZOFFSETFROM:+0200
TZOFFSETTO:+0100
TZNAME:CET
DTSTART:20261025T010000
END:STANDARD
BEGIN:DAYLIGHT
TZOFFSETFROM:+0100
TZOFFSETTO:+0200
TZNAME:CEST
DTSTART:20270328T010000
END:DAYLIGHT
BEGIN:STANDARD
TZOFFSETFROM:+0200
TZOFFSETTO:+0100
TZNAME:CET
DTSTART:20271031T010000
END:STANDARD
END:VTIMEZONE
BEGIN:VEVENT
DTSTART;TZID=Europe/Berlin:20260307T083000
DTEND;TZID=Europe/Berlin:20260307T203000
DTSTAMP:20260420T124206
CREATED:20260103T115637Z
LAST-MODIFIED:20260103T115637Z
UID:954-1772872200-1772915400@tabletop-potsdam.de
SUMMARY:5. TBP Cup - Warhamer 40.000
DESCRIPTION:Bereitet eure Armeen vor! Wir veranstalten ein eintägiges Warhammer 40.000 Turnier. \nStellt euch epischen Schlachten\, taktischen Herausforderungen und spannenden Begegnungen mit anderen Hobbybegeisterten. \n🔹 Turniermodus: 2000-Punkte-Listen\,  3 Spielen 🔹 Anmeldung: [Details zu den Regeln und Szenarien sowie Anmeldung über T3]🔹 Startgebühr: 25€ \nSichert euch euren Platz und lasst die Würfel rollen! 🎲
URL:https://tabletop-potsdam.de/event/5-tbp-cup-warhamer-40-000/
LOCATION:Freiland Potsdam\, Friedrich Engels Str 22\, Potsdam\, 14473\, Deutschland
CATEGORIES:Turnier
ATTACH;FMTTYPE=image/png:https://tabletop-potsdam.de/wp-content/uploads/2025/02/IMG_0453-e1739355880515.png
END:VEVENT
END:VCALENDAR